BEGIN:VCALENDAR
VERSION:2.0
PRODID:-//Legacy Law Center - ECPv6.15.20//NONSGML v1.0//EN
CALSCALE:GREGORIAN
METHOD:PUBLISH
X-ORIGINAL-URL:https://www.legacylawcenter.com
X-WR-CALDESC:Events for Legacy Law Center
REFRESH-INTERVAL;VALUE=DURATION:PT1H
X-Robots-Tag:noindex
X-PUBLISHED-TTL:PT1H
BEGIN:VTIMEZONE
TZID:America/Chicago
BEGIN:DAYLIGHT
TZOFFSETFROM:-0600
TZOFFSETTO:-0500
TZNAME:CDT
DTSTART:20170312T080000
END:DAYLIGHT
BEGIN:STANDARD
TZOFFSETFROM:-0500
TZOFFSETTO:-0600
TZNAME:CST
DTSTART:20171105T070000
END:STANDARD
BEGIN:DAYLIGHT
TZOFFSETFROM:-0600
TZOFFSETTO:-0500
TZNAME:CDT
DTSTART:20180311T080000
END:DAYLIGHT
BEGIN:STANDARD
TZOFFSETFROM:-0500
TZOFFSETTO:-0600
TZNAME:CST
DTSTART:20181104T070000
END:STANDARD
BEGIN:DAYLIGHT
TZOFFSETFROM:-0600
TZOFFSETTO:-0500
TZNAME:CDT
DTSTART:20190310T080000
END:DAYLIGHT
BEGIN:STANDARD
TZOFFSETFROM:-0500
TZOFFSETTO:-0600
TZNAME:CST
DTSTART:20191103T070000
END:STANDARD
BEGIN:DAYLIGHT
TZOFFSETFROM:-0600
TZOFFSETTO:-0500
TZNAME:CDT
DTSTART:20200308T080000
END:DAYLIGHT
BEGIN:STANDARD
TZOFFSETFROM:-0500
TZOFFSETTO:-0600
TZNAME:CST
DTSTART:20201101T070000
END:STANDARD
BEGIN:DAYLIGHT
TZOFFSETFROM:-0600
TZOFFSETTO:-0500
TZNAME:CDT
DTSTART:20210314T080000
END:DAYLIGHT
BEGIN:STANDARD
TZOFFSETFROM:-0500
TZOFFSETTO:-0600
TZNAME:CST
DTSTART:20211107T070000
END:STANDARD
BEGIN:DAYLIGHT
TZOFFSETFROM:-0600
TZOFFSETTO:-0500
TZNAME:CDT
DTSTART:20220313T080000
END:DAYLIGHT
BEGIN:STANDARD
TZOFFSETFROM:-0500
TZOFFSETTO:-0600
TZNAME:CST
DTSTART:20221106T070000
END:STANDARD
BEGIN:DAYLIGHT
TZOFFSETFROM:-0600
TZOFFSETTO:-0500
TZNAME:CDT
DTSTART:20230312T080000
END:DAYLIGHT
BEGIN:STANDARD
TZOFFSETFROM:-0500
TZOFFSETTO:-0600
TZNAME:CST
DTSTART:20231105T070000
END:STANDARD
END:VTIMEZONE
BEGIN:VEVENT
DTSTART;TZID=America/Chicago:20220217T180000
DTEND;TZID=America/Chicago:20220217T200000
DTSTAMP:20260420T174719
CREATED:20220204T220332Z
LAST-MODIFIED:20220204T220332Z
UID:10000086-1645120800-1645128000@www.legacylawcenter.com
SUMMARY:Metairie Living Trust Event
DESCRIPTION:Seating is Limited \nPlease arrive 10 minutes prior to the event \nCall us at (504) 274-1980 for any further details
URL:https://www.legacylawcenter.com/event/metairie-living-trust-event-2-2-2-2-2-2-2/
LOCATION:Austin’s Seafood & Steakhouse\, 5101 W Esplanade Ave\, Metairie\, 70006
ATTACH;FMTTYPE=image/jpeg:https://www.legacylawcenter.com/wp-content/uploads/2022/02/Austins-e1644012178899.jpg
END:VEVENT
BEGIN:VEVENT
DTSTART;TZID=America/Chicago:20190725T180000
DTEND;TZID=America/Chicago:20190725T200000
DTSTAMP:20260420T174719
CREATED:20190705T160029Z
LAST-MODIFIED:20190705T160525Z
UID:10000087-1564077600-1564084800@www.legacylawcenter.com
SUMMARY:Mandeville Living Trust Event
DESCRIPTION:Seating is Limited \nPlease arrive 10 minutes prior to the event. \nCall us at (985) 246-3020 for any further details.
URL:https://www.legacylawcenter.com/event/madisonville-living-trust-2-2-2-3/
LOCATION:Nuvolari’s\, 246 Girod Street\, Mandeville\, LA\, United States
ATTACH;FMTTYPE=image/jpeg:https://www.legacylawcenter.com/wp-content/uploads/2019/07/o-e1562346303906.jpg
END:VEVENT
BEGIN:VEVENT
DTSTART;TZID=America/Chicago:20190725T110000
DTEND;TZID=America/Chicago:20190725T130000
DTSTAMP:20260420T174719
CREATED:20190705T154550Z
LAST-MODIFIED:20190705T154550Z
UID:10000088-1564052400-1564059600@www.legacylawcenter.com
SUMMARY:Metairie Living Trust Event
DESCRIPTION:Seating is Limited \nPlease arrive 10 minutes prior to the event \nCall us at (504) 274-1980 for any further details
URL:https://www.legacylawcenter.com/event/metairie-living-trust-event-2-2-2-2-2-2/
LOCATION:Andy’s Bistro\, 3322 N Turnbull Drive\, Metairie\, LA\, 70002\, United States
ATTACH;FMTTYPE=image/jpeg:https://www.legacylawcenter.com/wp-content/uploads/2018/02/Andys-Bistro-e1546462715353.jpeg
END:VEVENT
BEGIN:VEVENT
DTSTART;TZID=America/Chicago:20190724T113000
DTEND;TZID=America/Chicago:20190724T133000
DTSTAMP:20260420T174719
CREATED:20190705T153506Z
LAST-MODIFIED:20190705T153506Z
UID:10000079-1563967800-1563975000@www.legacylawcenter.com
SUMMARY:Madisonville Living Trust Event
DESCRIPTION:Seating is Limited \nPlease arrive 10 minutes prior to the event. \nCall us at (985) 246-3020 for any further details.
URL:https://www.legacylawcenter.com/event/madisonville-living-trust-2-2-2-2-2-2/
LOCATION:Keith Young’s Steakhouse\, 165 LA Hwy 21\, Madisonville\, LA\, United States
ATTACH;FMTTYPE=image/jpeg:https://www.legacylawcenter.com/wp-content/uploads/2018/01/Keith-Youngs-e1546463317455.jpg
GEO:30.4110021;-90.1603878
X-APPLE-STRUCTURED-LOCATION;VALUE=URI;X-ADDRESS=Keith Young’s Steakhouse 165 LA Hwy 21 Madisonville LA United States;X-APPLE-RADIUS=500;X-TITLE=165 LA Hwy 21:geo:-90.1603878,30.4110021
END:VEVENT
BEGIN:VEVENT
DTSTART;TZID=America/Chicago:20190723T110000
DTEND;TZID=America/Chicago:20190723T130000
DTSTAMP:20260420T174719
CREATED:20190705T154121Z
LAST-MODIFIED:20190705T154121Z
UID:10000090-1563879600-1563886800@www.legacylawcenter.com
SUMMARY:Gretna Living Trust Event
DESCRIPTION:Seating is Limited \nPlease arrive 10 minutes prior to the event \nCall us at (504) 274-1980 for any further details
URL:https://www.legacylawcenter.com/event/event-event-3-2-2/
LOCATION:The Red Maple\, 1036 Lafayette Street\, Gretna\, LA\, United States
ATTACH;FMTTYPE=image/jpeg:https://www.legacylawcenter.com/wp-content/uploads/2018/01/Red-Maple-e1546463143172.jpg
GEO:29.9117412;-90.0583652
X-APPLE-STRUCTURED-LOCATION;VALUE=URI;X-ADDRESS=The Red Maple 1036 Lafayette Street Gretna LA United States;X-APPLE-RADIUS=500;X-TITLE=1036 Lafayette Street:geo:-90.0583652,29.9117412
END:VEVENT
BEGIN:VEVENT
DTSTART;TZID=America/Chicago:20190718T180000
DTEND;TZID=America/Chicago:20190718T200000
DTSTAMP:20260420T174719
CREATED:20190705T154310Z
LAST-MODIFIED:20190705T154310Z
UID:10000089-1563472800-1563480000@www.legacylawcenter.com
SUMMARY:Metairie Living Trust Event
DESCRIPTION:Seating is Limited \nPlease arrive 10 minutes prior to the event \nCall us at (504) 274-1980 for any further details
URL:https://www.legacylawcenter.com/event/metairie-living-trust-event-2018-02-27-2-2-2-2-2-2/
LOCATION:Andy’s Bistro\, 3322 N Turnbull Drive\, Metairie\, LA\, 70002\, United States
ATTACH;FMTTYPE=image/jpeg:https://www.legacylawcenter.com/wp-content/uploads/2018/02/Andys-Bistro-e1546462715353.jpeg
END:VEVENT
BEGIN:VEVENT
DTSTART;TZID=America/Chicago:20190626T113000
DTEND;TZID=America/Chicago:20190626T133000
DTSTAMP:20260420T174719
CREATED:20190604T153739Z
LAST-MODIFIED:20190604T153739Z
UID:10000075-1561548600-1561555800@www.legacylawcenter.com
SUMMARY:Madisonville Living Trust Event
DESCRIPTION:Seating is Limited \nPlease arrive 10 minutes prior to the event. \nCall us at (985) 246-3020 for any further details.
URL:https://www.legacylawcenter.com/event/madisonville-living-trust-2-2-2-2-2/
LOCATION:Keith Young’s Steakhouse\, 165 LA Hwy 21\, Madisonville\, LA\, United States
ATTACH;FMTTYPE=image/jpeg:https://www.legacylawcenter.com/wp-content/uploads/2018/01/Keith-Youngs-e1546463317455.jpg
GEO:30.4110021;-90.1603878
X-APPLE-STRUCTURED-LOCATION;VALUE=URI;X-ADDRESS=Keith Young’s Steakhouse 165 LA Hwy 21 Madisonville LA United States;X-APPLE-RADIUS=500;X-TITLE=165 LA Hwy 21:geo:-90.1603878,30.4110021
END:VEVENT
BEGIN:VEVENT
DTSTART;TZID=America/Chicago:20190625T180000
DTEND;TZID=America/Chicago:20190625T200000
DTSTAMP:20260420T174719
CREATED:20190604T154252Z
LAST-MODIFIED:20190604T154252Z
UID:10000078-1561485600-1561492800@www.legacylawcenter.com
SUMMARY:Metairie Living Trust Event
DESCRIPTION:Seating is Limited \nPlease arrive 10 minutes prior to the event \nCall us at (504) 274-1980 for any further details
URL:https://www.legacylawcenter.com/event/metairie-living-trust-event-2018-02-27-2-2-2-2-2/
LOCATION:Andy’s Bistro\, 3322 N Turnbull Drive\, Metairie\, LA\, 70002\, United States
ATTACH;FMTTYPE=image/jpeg:https://www.legacylawcenter.com/wp-content/uploads/2018/02/Andys-Bistro-e1546462715353.jpeg
END:VEVENT
BEGIN:VEVENT
DTSTART;TZID=America/Chicago:20190625T110000
DTEND;TZID=America/Chicago:20190625T130000
DTSTAMP:20260420T174719
CREATED:20190604T154117Z
LAST-MODIFIED:20190604T154117Z
UID:10000076-1561460400-1561467600@www.legacylawcenter.com
SUMMARY:Slidell Living Trust Event
DESCRIPTION:Seating is Limited \nPlease arrive 10 minutes prior to the event \nCall us at (504) 274-1980 for any further details
URL:https://www.legacylawcenter.com/event/event-event-2-2-2/
LOCATION:The Italian Pie\, 1319 Gause Blvd.\, Slidell\, LA\, 70458\, United States
ATTACH;FMTTYPE=image/jpeg:https://www.legacylawcenter.com/wp-content/uploads/2019/01/Italian-Pie-e1548880686197.jpg
END:VEVENT
BEGIN:VEVENT
DTSTART;TZID=America/Chicago:20190620T110000
DTEND;TZID=America/Chicago:20190620T130000
DTSTAMP:20260420T174719
CREATED:20190604T154203Z
LAST-MODIFIED:20190604T154203Z
UID:10000077-1561028400-1561035600@www.legacylawcenter.com
SUMMARY:Metairie Living Trust Event
DESCRIPTION:Seating is Limited \nPlease arrive 10 minutes prior to the event \nCall us at (504) 274-1980 for any further details
URL:https://www.legacylawcenter.com/event/metairie-living-trust-event-2-2-2-2-2/
LOCATION:Andy’s Bistro\, 3322 N Turnbull Drive\, Metairie\, LA\, 70002\, United States
ATTACH;FMTTYPE=image/jpeg:https://www.legacylawcenter.com/wp-content/uploads/2018/02/Andys-Bistro-e1546462715353.jpeg
END:VEVENT
BEGIN:VEVENT
DTSTART;TZID=America/Chicago:20190523T110000
DTEND;TZID=America/Chicago:20190523T130000
DTSTAMP:20260420T174719
CREATED:20190430T161208Z
LAST-MODIFIED:20190430T161208Z
UID:10000074-1558609200-1558616400@www.legacylawcenter.com
SUMMARY:Metairie Living Trust Event
DESCRIPTION:Seating is Limited \nPlease arrive 10 minutes prior to the event \nCall us at (504) 274-1980 for any further details
URL:https://www.legacylawcenter.com/event/metairie-living-trust-event-2-2-2-2/
LOCATION:Andy’s Bistro\, 3322 N Turnbull Drive\, Metairie\, LA\, 70002\, United States
ATTACH;FMTTYPE=image/jpeg:https://www.legacylawcenter.com/wp-content/uploads/2018/02/Andys-Bistro-e1546462715353.jpeg
END:VEVENT
BEGIN:VEVENT
DTSTART;TZID=America/Chicago:20190522T113000
DTEND;TZID=America/Chicago:20190522T133000
DTSTAMP:20260420T174719
CREATED:20190430T161045Z
LAST-MODIFIED:20190430T161045Z
UID:10000073-1558524600-1558531800@www.legacylawcenter.com
SUMMARY:Madisonville Living Trust Event
DESCRIPTION:Seating is Limited \nPlease arrive 10 minutes prior to the event. \nCall us at (985) 246-3020 for any further details.
URL:https://www.legacylawcenter.com/event/madisonville-living-trust-2-2-2-2/
LOCATION:Keith Young’s Steakhouse\, 165 LA Hwy 21\, Madisonville\, LA\, United States
ATTACH;FMTTYPE=image/jpeg:https://www.legacylawcenter.com/wp-content/uploads/2018/01/Keith-Youngs-e1546463317455.jpg
GEO:30.4110021;-90.1603878
X-APPLE-STRUCTURED-LOCATION;VALUE=URI;X-ADDRESS=Keith Young’s Steakhouse 165 LA Hwy 21 Madisonville LA United States;X-APPLE-RADIUS=500;X-TITLE=165 LA Hwy 21:geo:-90.1603878,30.4110021
END:VEVENT
BEGIN:VEVENT
DTSTART;TZID=America/Chicago:20190521T180000
DTEND;TZID=America/Chicago:20190521T200000
DTSTAMP:20260420T174719
CREATED:20190430T160905Z
LAST-MODIFIED:20190430T160905Z
UID:10000072-1558461600-1558468800@www.legacylawcenter.com
SUMMARY:Metairie Living Trust Event
DESCRIPTION:Seating is Limited \nPlease arrive 10 minutes prior to the event \nCall us at (504) 274-1980 for any further details
URL:https://www.legacylawcenter.com/event/metairie-living-trust-event-2018-02-27-2-2-2-2/
LOCATION:Andy’s Bistro\, 3322 N Turnbull Drive\, Metairie\, LA\, 70002\, United States
ATTACH;FMTTYPE=image/jpeg:https://www.legacylawcenter.com/wp-content/uploads/2018/02/Andys-Bistro-e1546462715353.jpeg
END:VEVENT
BEGIN:VEVENT
DTSTART;TZID=America/Chicago:20190517T110000
DTEND;TZID=America/Chicago:20190517T130000
DTSTAMP:20260420T174719
CREATED:20190430T160146Z
LAST-MODIFIED:20190430T160146Z
UID:10000070-1558090800-1558098000@www.legacylawcenter.com
SUMMARY:Destrehan Living Trust Event
DESCRIPTION:
URL:https://www.legacylawcenter.com/event/destrehan-living-trust-event-2/
LOCATION:Ormond Plantation\, 13786 River Road\, Destrehan\, LA\, 70047\, United States
ATTACH;FMTTYPE=image/jpeg:https://www.legacylawcenter.com/wp-content/uploads/2018/12/Ormond-Plantation-e1546462877252.jpg
END:VEVENT
BEGIN:VEVENT
DTSTART;TZID=America/Chicago:20190423T180000
DTEND;TZID=America/Chicago:20190423T200000
DTSTAMP:20260420T174719
CREATED:20190401T193810Z
LAST-MODIFIED:20190401T193909Z
UID:10000069-1556042400-1556049600@www.legacylawcenter.com
SUMMARY:Metairie Living Trust Event
DESCRIPTION:Seating is Limited \nPlease arrive 10 minutes prior to the event \nCall us at (504) 274-1980 for any further details
URL:https://www.legacylawcenter.com/event/metairie-living-trust-event-2018-02-27-2-2-2/
LOCATION:Andy’s Bistro\, 3322 N Turnbull Drive\, Metairie\, LA\, 70002\, United States
ATTACH;FMTTYPE=image/jpeg:https://www.legacylawcenter.com/wp-content/uploads/2018/02/Andys-Bistro-e1546462715353.jpeg
END:VEVENT
BEGIN:VEVENT
DTSTART;TZID=America/Chicago:20190423T110000
DTEND;TZID=America/Chicago:20190423T130000
DTSTAMP:20260420T174719
CREATED:20190130T204034Z
LAST-MODIFIED:20190401T191654Z
UID:10000061-1556017200-1556024400@www.legacylawcenter.com
SUMMARY:Slidell Living Trust Event
DESCRIPTION:Seating is Limited \nPlease arrive 10 minutes prior to the event \nCall us at (504) 274-1980 for any further details
URL:https://www.legacylawcenter.com/event/event-event-2-2/
LOCATION:The Italian Pie\, 1319 Gause Blvd.\, Slidell\, LA\, 70458\, United States
ATTACH;FMTTYPE=image/jpeg:https://www.legacylawcenter.com/wp-content/uploads/2019/01/Italian-Pie-e1548880686197.jpg
END:VEVENT
BEGIN:VEVENT
DTSTART;TZID=America/Chicago:20190418T110000
DTEND;TZID=America/Chicago:20190418T130000
DTSTAMP:20260420T174719
CREATED:20190401T192816Z
LAST-MODIFIED:20190401T192816Z
UID:10000067-1555585200-1555592400@www.legacylawcenter.com
SUMMARY:Metairie Living Trust Event
DESCRIPTION:Seating is Limited \nPlease arrive 10 minutes prior to the event \nCall us at (504) 274-1980 for any further details
URL:https://www.legacylawcenter.com/event/metairie-living-trust-event-2-2-2/
LOCATION:Andy’s Bistro\, 3322 N Turnbull Drive\, Metairie\, LA\, 70002\, United States
ATTACH;FMTTYPE=image/jpeg:https://www.legacylawcenter.com/wp-content/uploads/2018/02/Andys-Bistro-e1546462715353.jpeg
END:VEVENT
BEGIN:VEVENT
DTSTART;TZID=America/Chicago:20190417T113000
DTEND;TZID=America/Chicago:20190417T133000
DTSTAMP:20260420T174719
CREATED:20190401T193452Z
LAST-MODIFIED:20190401T193452Z
UID:10000068-1555500600-1555507800@www.legacylawcenter.com
SUMMARY:Madisonville Living Trust Event
DESCRIPTION:Seating is Limited \nPlease arrive 10 minutes prior to the event. \nCall us at (985) 246-3020 for any further details.
URL:https://www.legacylawcenter.com/event/madisonville-living-trust-2-2-2/
LOCATION:Keith Young’s Steakhouse\, 165 LA Hwy 21\, Madisonville\, LA\, United States
ATTACH;FMTTYPE=image/jpeg:https://www.legacylawcenter.com/wp-content/uploads/2018/01/Keith-Youngs-e1546463317455.jpg
GEO:30.4110021;-90.1603878
X-APPLE-STRUCTURED-LOCATION;VALUE=URI;X-ADDRESS=Keith Young’s Steakhouse 165 LA Hwy 21 Madisonville LA United States;X-APPLE-RADIUS=500;X-TITLE=165 LA Hwy 21:geo:-90.1603878,30.4110021
END:VEVENT
BEGIN:VEVENT
DTSTART;TZID=America/Chicago:20190328T110000
DTEND;TZID=America/Chicago:20190328T130000
DTSTAMP:20260420T174719
CREATED:20190307T195756Z
LAST-MODIFIED:20190307T195836Z
UID:10000065-1553770800-1553778000@www.legacylawcenter.com
SUMMARY:Metairie Living Trust Event
DESCRIPTION:Seating is Limited \nPlease arrive 10 minutes prior to the event \nCall us at (504) 274-1980 for any further details
URL:https://www.legacylawcenter.com/event/metairie-living-trust-event-2-2/
LOCATION:Andy’s Bistro\, 3322 N Turnbull Drive\, Metairie\, LA\, 70002\, United States
ATTACH;FMTTYPE=image/jpeg:https://www.legacylawcenter.com/wp-content/uploads/2018/02/Andys-Bistro-e1546462715353.jpeg
END:VEVENT
BEGIN:VEVENT
DTSTART;TZID=America/Chicago:20190327T113000
DTEND;TZID=America/Chicago:20190327T133000
DTSTAMP:20260420T174719
CREATED:20190130T204812Z
LAST-MODIFIED:20190307T195222Z
UID:10000064-1553686200-1553693400@www.legacylawcenter.com
SUMMARY:Madisonville Living Trust Event
DESCRIPTION:Seating is Limited \nPlease arrive 10 minutes prior to the event. \nCall us at (985) 246-3020 for any further details.
URL:https://www.legacylawcenter.com/event/madisonville-living-trust-2-2/
LOCATION:Keith Young’s Steakhouse\, 165 LA Hwy 21\, Madisonville\, LA\, United States
ATTACH;FMTTYPE=image/jpeg:https://www.legacylawcenter.com/wp-content/uploads/2018/01/Keith-Youngs-e1546463317455.jpg
GEO:30.4110021;-90.1603878
X-APPLE-STRUCTURED-LOCATION;VALUE=URI;X-ADDRESS=Keith Young’s Steakhouse 165 LA Hwy 21 Madisonville LA United States;X-APPLE-RADIUS=500;X-TITLE=165 LA Hwy 21:geo:-90.1603878,30.4110021
END:VEVENT
BEGIN:VEVENT
DTSTART;TZID=America/Chicago:20190326T180000
DTEND;TZID=America/Chicago:20190326T200000
DTSTAMP:20260420T174719
CREATED:20190307T200009Z
LAST-MODIFIED:20190307T200009Z
UID:10000066-1553623200-1553630400@www.legacylawcenter.com
SUMMARY:Metairie Living Trust Event
DESCRIPTION:Seating is Limited \nPlease arrive 10 minutes prior to the event \nCall us at (504) 274-1980 for any further details
URL:https://www.legacylawcenter.com/event/metairie-living-trust-event-2018-02-27-2-2/
LOCATION:Andy’s Bistro\, 3322 N Turnbull Drive\, Metairie\, LA\, 70002\, United States
ATTACH;FMTTYPE=image/jpeg:https://www.legacylawcenter.com/wp-content/uploads/2018/02/Andys-Bistro-e1546462715353.jpeg
END:VEVENT
BEGIN:VEVENT
DTSTART;TZID=America/Chicago:20190221T110000
DTEND;TZID=America/Chicago:20190221T130000
DTSTAMP:20260420T174719
CREATED:20190130T204309Z
LAST-MODIFIED:20190130T204309Z
UID:10000062-1550746800-1550754000@www.legacylawcenter.com
SUMMARY:Metairie Living Trust Event
DESCRIPTION:Seating is Limited \nPlease arrive 10 minutes prior to the event \nCall us at (504) 274-1980 for any further details
URL:https://www.legacylawcenter.com/event/metairie-living-trust-event-2/
LOCATION:Andy’s Bistro\, 3322 N Turnbull Drive\, Metairie\, LA\, 70002\, United States
ATTACH;FMTTYPE=image/jpeg:https://www.legacylawcenter.com/wp-content/uploads/2018/02/Andys-Bistro-e1546462715353.jpeg
END:VEVENT
BEGIN:VEVENT
DTSTART;TZID=America/Chicago:20190220T113000
DTEND;TZID=America/Chicago:20190220T133000
DTSTAMP:20260420T174719
CREATED:20190130T202101Z
LAST-MODIFIED:20190130T202101Z
UID:10000060-1550662200-1550669400@www.legacylawcenter.com
SUMMARY:Madisonville Living Trust Event
DESCRIPTION:Seating is Limited \nPlease arrive 10 minutes prior to the event. \nCall us at (985) 246-3020 for any further details.
URL:https://www.legacylawcenter.com/event/madisonville-living-trust-2/
LOCATION:Keith Young’s Steakhouse\, 165 LA Hwy 21\, Madisonville\, LA\, United States
ATTACH;FMTTYPE=image/jpeg:https://www.legacylawcenter.com/wp-content/uploads/2018/01/Keith-Youngs-e1546463317455.jpg
GEO:30.4110021;-90.1603878
X-APPLE-STRUCTURED-LOCATION;VALUE=URI;X-ADDRESS=Keith Young’s Steakhouse 165 LA Hwy 21 Madisonville LA United States;X-APPLE-RADIUS=500;X-TITLE=165 LA Hwy 21:geo:-90.1603878,30.4110021
END:VEVENT
BEGIN:VEVENT
DTSTART;TZID=America/Chicago:20190219T180000
DTEND;TZID=America/Chicago:20190219T200000
DTSTAMP:20260420T174719
CREATED:20190130T201833Z
LAST-MODIFIED:20190130T201833Z
UID:10000059-1550599200-1550606400@www.legacylawcenter.com
SUMMARY:Metairie Living Trust Event
DESCRIPTION:Seating is Limited \nPlease arrive 10 minutes prior to the event \nCall us at (504) 274-1980 for any further details
URL:https://www.legacylawcenter.com/event/metairie-living-trust-event-2018-02-27-2/
LOCATION:Andy’s Bistro\, 3322 N Turnbull Drive\, Metairie\, LA\, 70002\, United States
ATTACH;FMTTYPE=image/jpeg:https://www.legacylawcenter.com/wp-content/uploads/2018/02/Andys-Bistro-e1546462715353.jpeg
END:VEVENT
BEGIN:VEVENT
DTSTART;TZID=America/Chicago:20190124T180000
DTEND;TZID=America/Chicago:20190124T200000
DTSTAMP:20260420T174719
CREATED:20180212T212110Z
LAST-MODIFIED:20190118T152237Z
UID:10000055-1548352800-1548360000@www.legacylawcenter.com
SUMMARY:Metairie Living Trust Event
DESCRIPTION:Seating is Limited \nPlease arrive 10 minutes prior to the event \nCall us at (504) 274-1980 for any further details
URL:https://www.legacylawcenter.com/event/metairie-living-trust-event-2018-02-27/
LOCATION:Andy’s Bistro\, 3322 N Turnbull Drive\, Metairie\, LA\, 70002\, United States
ATTACH;FMTTYPE=image/jpeg:https://www.legacylawcenter.com/wp-content/uploads/2018/02/Andys-Bistro-e1546462715353.jpeg
END:VEVENT
BEGIN:VEVENT
DTSTART;TZID=America/Chicago:20190124T113000
DTEND;TZID=America/Chicago:20190124T133000
DTSTAMP:20260420T174719
CREATED:20180126T210500Z
LAST-MODIFIED:20190118T152329Z
UID:10000052-1548329400-1548336600@www.legacylawcenter.com
SUMMARY:Madisonville Living Trust Event
DESCRIPTION:Seating is Limited \nPlease arrive 10 minutes prior to the event. \nCall us at (985) 246-3020 for any further details.
URL:https://www.legacylawcenter.com/event/madisonville-living-trust/
LOCATION:Keith Young’s Steakhouse\, 165 LA Hwy 21\, Madisonville\, LA\, United States
ATTACH;FMTTYPE=image/jpeg:https://www.legacylawcenter.com/wp-content/uploads/2018/01/Keith-Youngs-e1546463317455.jpg
GEO:30.4110021;-90.1603878
X-APPLE-STRUCTURED-LOCATION;VALUE=URI;X-ADDRESS=Keith Young’s Steakhouse 165 LA Hwy 21 Madisonville LA United States;X-APPLE-RADIUS=500;X-TITLE=165 LA Hwy 21:geo:-90.1603878,30.4110021
END:VEVENT
BEGIN:VEVENT
DTSTART;TZID=America/Chicago:20190123T110000
DTEND;TZID=America/Chicago:20190123T130000
DTSTAMP:20260420T174719
CREATED:20181231T175805Z
LAST-MODIFIED:20190102T210152Z
UID:10000058-1548241200-1548248400@www.legacylawcenter.com
SUMMARY:Destrehan Living Trust Event
DESCRIPTION:
URL:https://www.legacylawcenter.com/event/destrehan-living-trust-event/
LOCATION:Ormond Plantation\, 13786 River Road\, Destrehan\, LA\, 70047\, United States
ATTACH;FMTTYPE=image/jpeg:https://www.legacylawcenter.com/wp-content/uploads/2018/12/Ormond-Plantation-e1546462877252.jpg
END:VEVENT
BEGIN:VEVENT
DTSTART;TZID=America/Chicago:20190122T180000
DTEND;TZID=America/Chicago:20190122T200000
DTSTAMP:20260420T174719
CREATED:20180215T215728Z
LAST-MODIFIED:20190118T152443Z
UID:10000056-1548180000-1548187200@www.legacylawcenter.com
SUMMARY:Mandeville Living Trust Event
DESCRIPTION:Seating is Limited \nPlease arrive 10 minutes prior to the event \nCall us at (985) 246-3020 for any further details
URL:https://www.legacylawcenter.com/event/mandeville-living-trust-event/
LOCATION:Legacy Law Center\, 800 Ramon Street\, Mandeville\, LA\, 70448\, United States
ATTACH;FMTTYPE=image/jpeg:https://www.legacylawcenter.com/wp-content/uploads/2018/02/Mandeville-Office-e1546463719118.jpg
END:VEVENT
BEGIN:VEVENT
DTSTART;TZID=America/Chicago:20190117T110000
DTEND;TZID=America/Chicago:20190117T130000
DTSTAMP:20260420T174719
CREATED:20180212T212110Z
LAST-MODIFIED:20190118T152611Z
UID:10000054-1547722800-1547730000@www.legacylawcenter.com
SUMMARY:Metairie Living Trust Event
DESCRIPTION:Seating is Limited \nPlease arrive 10 minutes prior to the event \nCall us at (504) 274-1980 for any further details
URL:https://www.legacylawcenter.com/event/metairie-living-trust-event/
LOCATION:Andy’s Bistro\, 3322 N Turnbull Drive\, Metairie\, LA\, 70002\, United States
ATTACH;FMTTYPE=image/jpeg:https://www.legacylawcenter.com/wp-content/uploads/2018/02/Andys-Bistro-e1546462715353.jpeg
END:VEVENT
BEGIN:VEVENT
DTSTART;TZID=America/Chicago:20180412T113000
DTEND;TZID=America/Chicago:20180412T133000
DTSTAMP:20260420T174719
CREATED:20180215T215808Z
LAST-MODIFIED:20190102T155836Z
UID:10000057-1523532600-1523539800@www.legacylawcenter.com
SUMMARY:Houma Living Trust Event
DESCRIPTION:
URL:https://www.legacylawcenter.com/event/houma-living-trust-event/
LOCATION:Big Al’s Seafood\, 1377 W Tunnel Blvd\, Houma\, LA\, 70360\, United States
ATTACH;FMTTYPE=image/png:https://www.legacylawcenter.com/wp-content/uploads/2018/01/LegacyLawCenter-Logo-Standard.png
END:VEVENT
END:VCALENDAR