BEGIN:VCALENDAR
VERSION:2.0
PRODID:-//Legacy Law Center - ECPv6.15.20//NONSGML v1.0//EN
CALSCALE:GREGORIAN
METHOD:PUBLISH
X-ORIGINAL-URL:https://www.legacylawcenter.com
X-WR-CALDESC:Events for Legacy Law Center
REFRESH-INTERVAL;VALUE=DURATION:PT1H
X-Robots-Tag:noindex
X-PUBLISHED-TTL:PT1H
BEGIN:VTIMEZONE
TZID:America/Chicago
BEGIN:DAYLIGHT
TZOFFSETFROM:-0600
TZOFFSETTO:-0500
TZNAME:CDT
DTSTART:20210314T080000
END:DAYLIGHT
BEGIN:STANDARD
TZOFFSETFROM:-0500
TZOFFSETTO:-0600
TZNAME:CST
DTSTART:20211107T070000
END:STANDARD
BEGIN:DAYLIGHT
TZOFFSETFROM:-0600
TZOFFSETTO:-0500
TZNAME:CDT
DTSTART:20220313T080000
END:DAYLIGHT
BEGIN:STANDARD
TZOFFSETFROM:-0500
TZOFFSETTO:-0600
TZNAME:CST
DTSTART:20221106T070000
END:STANDARD
BEGIN:DAYLIGHT
TZOFFSETFROM:-0600
TZOFFSETTO:-0500
TZNAME:CDT
DTSTART:20230312T080000
END:DAYLIGHT
BEGIN:STANDARD
TZOFFSETFROM:-0500
TZOFFSETTO:-0600
TZNAME:CST
DTSTART:20231105T070000
END:STANDARD
BEGIN:DAYLIGHT
TZOFFSETFROM:-0600
TZOFFSETTO:-0500
TZNAME:CDT
DTSTART:20240310T080000
END:DAYLIGHT
BEGIN:STANDARD
TZOFFSETFROM:-0500
TZOFFSETTO:-0600
TZNAME:CST
DTSTART:20241103T070000
END:STANDARD
END:VTIMEZONE
BEGIN:VEVENT
DTSTART;TZID=America/Chicago:20230309T180000
DTEND;TZID=America/Chicago:20230309T200000
DTSTAMP:20260420T145432
CREATED:20230215T194650Z
LAST-MODIFIED:20230301T153529Z
UID:10000097-1678384800-1678392000@www.legacylawcenter.com
SUMMARY:Metairie Living Trust Event
DESCRIPTION:** EVENT HAS REACHED CAPACITY** \nCall us at (504) 274-1980 to be placed on Waiting List or to register for another date
URL:https://www.legacylawcenter.com/event/metairie-living-trust-event-2-2-2-2-2-2-2-4-2-2-2/
LOCATION:Austin’s Seafood & Steakhouse\, 5101 W Esplanade Ave\, Metairie\, 70006
ATTACH;FMTTYPE=image/jpeg:https://www.legacylawcenter.com/wp-content/uploads/2022/02/Austins-e1644012178899.jpg
END:VEVENT
BEGIN:VEVENT
DTSTART;TZID=America/Chicago:20230119T180000
DTEND;TZID=America/Chicago:20230119T200000
DTSTAMP:20260420T145432
CREATED:20221230T000003Z
LAST-MODIFIED:20221230T000003Z
UID:10000095-1674151200-1674158400@www.legacylawcenter.com
SUMMARY:Metairie Living Trust Event
DESCRIPTION:Seating is Limited \nPlease arrive 10 minutes prior to the event \nCall us at (504) 274-1980 for any further details
URL:https://www.legacylawcenter.com/event/metairie-living-trust-event-2-2-2-2-2-2-2-4-2-2/
LOCATION:Austin’s Seafood & Steakhouse\, 5101 W Esplanade Ave\, Metairie\, 70006
ATTACH;FMTTYPE=image/jpeg:https://www.legacylawcenter.com/wp-content/uploads/2022/02/Austins-e1644012178899.jpg
END:VEVENT
BEGIN:VEVENT
DTSTART;TZID=America/Chicago:20221115T180000
DTEND;TZID=America/Chicago:20221115T200000
DTSTAMP:20260420T145432
CREATED:20221025T173642Z
LAST-MODIFIED:20221025T173642Z
UID:10000094-1668535200-1668542400@www.legacylawcenter.com
SUMMARY:Metairie Living Trust Event
DESCRIPTION:Seating is Limited \nPlease arrive 10 minutes prior to the event \nCall us at (504) 274-1980 for any further details
URL:https://www.legacylawcenter.com/event/metairie-living-trust-event-2-2-2-2-2-2-2-4-2/
LOCATION:Austin’s Seafood & Steakhouse\, 5101 W Esplanade Ave\, Metairie\, 70006
ATTACH;FMTTYPE=image/jpeg:https://www.legacylawcenter.com/wp-content/uploads/2022/02/Austins-e1644012178899.jpg
END:VEVENT
BEGIN:VEVENT
DTSTART;TZID=America/Chicago:20220816T180000
DTEND;TZID=America/Chicago:20220816T200000
DTSTAMP:20260420T145432
CREATED:20220808T134236Z
LAST-MODIFIED:20220808T134236Z
UID:10000091-1660672800-1660680000@www.legacylawcenter.com
SUMMARY:Metairie Living Trust Event
DESCRIPTION:Seating is Limited \nPlease arrive 10 minutes prior to the event \nCall us at (504) 274-1980 for any further details
URL:https://www.legacylawcenter.com/event/metairie-living-trust-event-2-2-2-2-2-2-2-4/
LOCATION:Austin’s Seafood & Steakhouse\, 5101 W Esplanade Ave\, Metairie\, 70006
ATTACH;FMTTYPE=image/jpeg:https://www.legacylawcenter.com/wp-content/uploads/2022/02/Austins-e1644012178899.jpg
END:VEVENT
BEGIN:VEVENT
DTSTART;TZID=America/Chicago:20220623T110000
DTEND;TZID=America/Chicago:20220623T130000
DTSTAMP:20260420T145432
CREATED:20220607T154232Z
LAST-MODIFIED:20220607T154232Z
UID:10000082-1655982000-1655989200@www.legacylawcenter.com
SUMMARY:Metairie Living Trust Event
DESCRIPTION:Seating is Limited \nPlease arrive 10 minutes prior to the event \nCall us at (504) 274-1980 for any further details
URL:https://www.legacylawcenter.com/event/metairie-living-trust-event-2-2-2-2-2-2-2-3-2/
LOCATION:Austin’s Seafood & Steakhouse\, 5101 W Esplanade Ave\, Metairie\, 70006
ATTACH;FMTTYPE=image/jpeg:https://www.legacylawcenter.com/wp-content/uploads/2022/02/Austins-e1644012178899.jpg
END:VEVENT
BEGIN:VEVENT
DTSTART;TZID=America/Chicago:20220407T110000
DTEND;TZID=America/Chicago:20220407T130000
DTSTAMP:20260420T145432
CREATED:20220321T180956Z
LAST-MODIFIED:20220321T180956Z
UID:10000084-1649329200-1649336400@www.legacylawcenter.com
SUMMARY:Metairie Living Trust Event
DESCRIPTION:Seating is Limited \nPlease arrive 10 minutes prior to the event \nCall us at (504) 274-1980 for any further details
URL:https://www.legacylawcenter.com/event/metairie-living-trust-event-2-2-2-2-2-2-2-3/
LOCATION:Austin’s Seafood & Steakhouse\, 5101 W Esplanade Ave\, Metairie\, 70006
ATTACH;FMTTYPE=image/jpeg:https://www.legacylawcenter.com/wp-content/uploads/2022/02/Austins-e1644012178899.jpg
END:VEVENT
BEGIN:VEVENT
DTSTART;TZID=America/Chicago:20220217T180000
DTEND;TZID=America/Chicago:20220217T200000
DTSTAMP:20260420T145432
CREATED:20220204T220332Z
LAST-MODIFIED:20220204T220332Z
UID:10000086-1645120800-1645128000@www.legacylawcenter.com
SUMMARY:Metairie Living Trust Event
DESCRIPTION:Seating is Limited \nPlease arrive 10 minutes prior to the event \nCall us at (504) 274-1980 for any further details
URL:https://www.legacylawcenter.com/event/metairie-living-trust-event-2-2-2-2-2-2-2/
LOCATION:Austin’s Seafood & Steakhouse\, 5101 W Esplanade Ave\, Metairie\, 70006
ATTACH;FMTTYPE=image/jpeg:https://www.legacylawcenter.com/wp-content/uploads/2022/02/Austins-e1644012178899.jpg
END:VEVENT
END:VCALENDAR