BEGIN:VCALENDAR
VERSION:2.0
PRODID:-//Legacy Law Center - ECPv6.15.20//NONSGML v1.0//EN
CALSCALE:GREGORIAN
METHOD:PUBLISH
X-ORIGINAL-URL:https://www.legacylawcenter.com
X-WR-CALDESC:Events for Legacy Law Center
REFRESH-INTERVAL;VALUE=DURATION:PT1H
X-Robots-Tag:noindex
X-PUBLISHED-TTL:PT1H
BEGIN:VTIMEZONE
TZID:America/Chicago
BEGIN:DAYLIGHT
TZOFFSETFROM:-0600
TZOFFSETTO:-0500
TZNAME:CDT
DTSTART:20220313T080000
END:DAYLIGHT
BEGIN:STANDARD
TZOFFSETFROM:-0500
TZOFFSETTO:-0600
TZNAME:CST
DTSTART:20221106T070000
END:STANDARD
BEGIN:DAYLIGHT
TZOFFSETFROM:-0600
TZOFFSETTO:-0500
TZNAME:CDT
DTSTART:20230312T080000
END:DAYLIGHT
BEGIN:STANDARD
TZOFFSETFROM:-0500
TZOFFSETTO:-0600
TZNAME:CST
DTSTART:20231105T070000
END:STANDARD
BEGIN:DAYLIGHT
TZOFFSETFROM:-0600
TZOFFSETTO:-0500
TZNAME:CDT
DTSTART:20240310T080000
END:DAYLIGHT
BEGIN:STANDARD
TZOFFSETFROM:-0500
TZOFFSETTO:-0600
TZNAME:CST
DTSTART:20241103T070000
END:STANDARD
BEGIN:DAYLIGHT
TZOFFSETFROM:-0600
TZOFFSETTO:-0500
TZNAME:CDT
DTSTART:20250309T080000
END:DAYLIGHT
BEGIN:STANDARD
TZOFFSETFROM:-0500
TZOFFSETTO:-0600
TZNAME:CST
DTSTART:20251102T070000
END:STANDARD
BEGIN:DAYLIGHT
TZOFFSETFROM:-0600
TZOFFSETTO:-0500
TZNAME:CDT
DTSTART:20260308T080000
END:DAYLIGHT
BEGIN:STANDARD
TZOFFSETFROM:-0500
TZOFFSETTO:-0600
TZNAME:CST
DTSTART:20261101T070000
END:STANDARD
END:VTIMEZONE
BEGIN:VEVENT
DTSTART;TZID=America/Chicago:20250514T113000
DTEND;TZID=America/Chicago:20250514T133000
DTSTAMP:20260420T151455
CREATED:20250501T151945Z
LAST-MODIFIED:20250506T161706Z
UID:10000118-1747222200-1747229400@www.legacylawcenter.com
SUMMARY:Metairie Living Trust Event
DESCRIPTION:Seating is Limited \nPlease arrive 10 minutes prior to the event \nCall us at (504) 274-1980 for any further details
URL:https://www.legacylawcenter.com/event/metairie-living-trust-event-3-2-2-2/
LOCATION:Porter & Luke’s\, 1517 Metairie Rd\, Metairie\, LA\, 70005\, United States
ATTACH;FMTTYPE=image/jpeg:https://www.legacylawcenter.com/wp-content/uploads/2023/04/Porter-and-Luke-e1681152538723.jpg
END:VEVENT
BEGIN:VEVENT
DTSTART;TZID=America/Chicago:20250212T113000
DTEND;TZID=America/Chicago:20250212T133000
DTSTAMP:20260420T151455
CREATED:20250114T212940Z
LAST-MODIFIED:20250211T163537Z
UID:10000114-1739359800-1739367000@www.legacylawcenter.com
SUMMARY:Metairie Living Trust Event
DESCRIPTION:EVENT HAS REACHED CAPACITY – PLEASE CALL TO BE PLACED ON WAITLIST \nPlease arrive 10 minutes prior to the event \nCall us at (504) 274-1980 for any further details
URL:https://www.legacylawcenter.com/event/metairie-living-trust-event-3-2-2/
LOCATION:Porter & Luke’s\, 1517 Metairie Rd\, Metairie\, LA\, 70005\, United States
ATTACH;FMTTYPE=image/jpeg:https://www.legacylawcenter.com/wp-content/uploads/2023/04/Porter-and-Luke-e1681152538723.jpg
END:VEVENT
BEGIN:VEVENT
DTSTART;TZID=America/Chicago:20240522T113000
DTEND;TZID=America/Chicago:20240522T133000
DTSTAMP:20260420T151455
CREATED:20240422T201646Z
LAST-MODIFIED:20240422T201646Z
UID:10000113-1716377400-1716384600@www.legacylawcenter.com
SUMMARY:Metairie Living Trust Event
DESCRIPTION:Seating is Limited \nPlease arrive 10 minutes prior to the event \nCall us at (504) 274-1980 for any further details
URL:https://www.legacylawcenter.com/event/metairie-living-trust-event-3-2/
LOCATION:Porter & Luke’s\, 1517 Metairie Rd\, Metairie\, LA\, 70005\, United States
ATTACH;FMTTYPE=image/jpeg:https://www.legacylawcenter.com/wp-content/uploads/2023/04/Porter-and-Luke-e1681152538723.jpg
END:VEVENT
BEGIN:VEVENT
DTSTART;TZID=America/Chicago:20240220T113000
DTEND;TZID=America/Chicago:20240220T133000
DTSTAMP:20260420T151455
CREATED:20240126T191550Z
LAST-MODIFIED:20240214T224022Z
UID:10000108-1708428600-1708435800@www.legacylawcenter.com
SUMMARY:Metairie Living Trust Event
DESCRIPTION:EVENT HAS REACHED CAPACITY \nCall us at (504) 274-1980 to be added to waitlist
URL:https://www.legacylawcenter.com/event/metairie-living-trust-event-4-2/
LOCATION:Porter & Luke’s\, 1517 Metairie Rd\, Metairie\, LA\, 70005\, United States
ATTACH;FMTTYPE=image/jpeg:https://www.legacylawcenter.com/wp-content/uploads/2023/04/Porter-and-Luke-e1681152538723.jpg
END:VEVENT
BEGIN:VEVENT
DTSTART;TZID=America/Chicago:20231130T113000
DTEND;TZID=America/Chicago:20231130T133000
DTSTAMP:20260420T151455
CREATED:20231025T155631Z
LAST-MODIFIED:20231127T165131Z
UID:10000107-1701343800-1701351000@www.legacylawcenter.com
SUMMARY:Metairie Living Trust Event
DESCRIPTION:**EVENT HAS REACHED CAPACITY** \nCall us at (504) 274-1980 to be added to waitlist
URL:https://www.legacylawcenter.com/event/metairie-living-trust-event-5/
LOCATION:Porter & Luke’s\, 1517 Metairie Rd\, Metairie\, LA\, 70005\, United States
ATTACH;FMTTYPE=image/jpeg:https://www.legacylawcenter.com/wp-content/uploads/2023/04/Porter-and-Luke-e1681152538723.jpg
END:VEVENT
BEGIN:VEVENT
DTSTART;TZID=America/Chicago:20230926T113000
DTEND;TZID=America/Chicago:20230926T133000
DTSTAMP:20260420T151455
CREATED:20230905T135104Z
LAST-MODIFIED:20230905T135104Z
UID:10000105-1695727800-1695735000@www.legacylawcenter.com
SUMMARY:Metairie Living Trust Event
DESCRIPTION:Seating is Limited \nPlease arrive 10 minutes prior to the event \nCall us at (504) 274-1980 for any further details
URL:https://www.legacylawcenter.com/event/metairie-living-trust-event-4/
LOCATION:Porter & Luke’s\, 1517 Metairie Rd\, Metairie\, LA\, 70005\, United States
ATTACH;FMTTYPE=image/jpeg:https://www.legacylawcenter.com/wp-content/uploads/2023/04/Porter-and-Luke-e1681152538723.jpg
END:VEVENT
BEGIN:VEVENT
DTSTART;TZID=America/Chicago:20230718T113000
DTEND;TZID=America/Chicago:20230718T133000
DTSTAMP:20260420T151455
CREATED:20230623T173244Z
LAST-MODIFIED:20230623T173244Z
UID:10000101-1689679800-1689687000@www.legacylawcenter.com
SUMMARY:Metairie Living Trust Event
DESCRIPTION:Seating is Limited \nPlease arrive 10 minutes prior to the event \nCall us at (504) 274-1980 for any further details
URL:https://www.legacylawcenter.com/event/metairie-living-trust-event-3/
LOCATION:Porter & Luke’s\, 1517 Metairie Rd\, Metairie\, LA\, 70005\, United States
ATTACH;FMTTYPE=image/jpeg:https://www.legacylawcenter.com/wp-content/uploads/2023/04/Porter-and-Luke-e1681152538723.jpg
END:VEVENT
BEGIN:VEVENT
DTSTART;TZID=America/Chicago:20230518T113000
DTEND;TZID=America/Chicago:20230518T133000
DTSTAMP:20260420T151455
CREATED:20230410T165856Z
LAST-MODIFIED:20230410T184940Z
UID:10000099-1684409400-1684416600@www.legacylawcenter.com
SUMMARY:Metairie Living Trust Event
DESCRIPTION:Seating is Limited \nPlease arrive 10 minutes prior to the event \nCall us at (504) 274-1980 for any further details
URL:https://www.legacylawcenter.com/event/metairie-living-trust-event-2-2-2-2-2-2-2-3-2-2/
LOCATION:Porter & Luke’s\, 1517 Metairie Rd\, Metairie\, LA\, 70005\, United States
ATTACH;FMTTYPE=image/jpeg:https://www.legacylawcenter.com/wp-content/uploads/2023/04/Porter-and-Luke-e1681152538723.jpg
END:VEVENT
END:VCALENDAR